BEGIN:VCALENDAR
VERSION:2.0
PRODID:-//Landgasthof „Zu den Drei Rosen“ - ECPv6.15.15//NONSGML v1.0//EN
CALSCALE:GREGORIAN
METHOD:PUBLISH
X-WR-CALNAME:Landgasthof „Zu den Drei Rosen“
X-ORIGINAL-URL:https://www.rosenwirt-winkel.de
X-WR-CALDESC:Veranstaltungen für Landgasthof „Zu den Drei Rosen“
REFRESH-INTERVAL;VALUE=DURATION:PT1H
X-Robots-Tag:noindex
X-PUBLISHED-TTL:PT1H
BEGIN:VTIMEZONE
TZID:Europe/Berlin
BEGIN:DAYLIGHT
TZOFFSETFROM:+0100
TZOFFSETTO:+0200
TZNAME:CEST
DTSTART:20220327T010000
END:DAYLIGHT
BEGIN:STANDARD
TZOFFSETFROM:+0200
TZOFFSETTO:+0100
TZNAME:CET
DTSTART:20221030T010000
END:STANDARD
BEGIN:DAYLIGHT
TZOFFSETFROM:+0100
TZOFFSETTO:+0200
TZNAME:CEST
DTSTART:20230326T010000
END:DAYLIGHT
BEGIN:STANDARD
TZOFFSETFROM:+0200
TZOFFSETTO:+0100
TZNAME:CET
DTSTART:20231029T010000
END:STANDARD
BEGIN:DAYLIGHT
TZOFFSETFROM:+0100
TZOFFSETTO:+0200
TZNAME:CEST
DTSTART:20240331T010000
END:DAYLIGHT
BEGIN:STANDARD
TZOFFSETFROM:+0200
TZOFFSETTO:+0100
TZNAME:CET
DTSTART:20241027T010000
END:STANDARD
END:VTIMEZONE
BEGIN:VEVENT
DTSTART;TZID=Europe/Berlin:20231205T113000
DTEND;TZID=Europe/Berlin:20231205T163000
DTSTAMP:20260425T191841
CREATED:20230125T111700Z
LAST-MODIFIED:20230125T111700Z
UID:10000788-1701775800-1701793800@www.rosenwirt-winkel.de
SUMMARY:Weihnachten mit Regina Ross
DESCRIPTION:11.45 Uhr Begrüßung \n12.00 Uhr Mittagessen \n13.30 Uhr Weihnachtsprogramm mit „Regina Ross“ \n15.00 Uhr Kaffeegedeck \nTanz bis 16.30 Uhr
URL:https://www.rosenwirt-winkel.de/event/weihnachten-mit-regina-ross/2023-12-05/
LOCATION:Landgasthof „Zu den Drei Rosen“\, Hauptstraße 32\, Uebigau-Wahrenbrück OT Winkel\, 04924\, Deutschland
ATTACH;FMTTYPE=image/jpeg:https://www.rosenwirt-winkel.de/wp-content/uploads/2023/01/Ross8-e1674645361855.jpg
GEO:51.5321537;13.3789452
X-APPLE-STRUCTURED-LOCATION;VALUE=URI;X-ADDRESS=Landgasthof „Zu den Drei Rosen“ Hauptstraße 32 Uebigau-Wahrenbrück OT Winkel 04924 Deutschland;X-APPLE-RADIUS=500;X-TITLE=Hauptstraße 32:geo:13.3789452,51.5321537
END:VEVENT
BEGIN:VEVENT
DTSTART;TZID=Europe/Berlin:20231206T113000
DTEND;TZID=Europe/Berlin:20231206T163000
DTSTAMP:20260425T191841
CREATED:20230125T111700Z
LAST-MODIFIED:20230125T111700Z
UID:10000789-1701862200-1701880200@www.rosenwirt-winkel.de
SUMMARY:Weihnachten mit Regina Ross
DESCRIPTION:11.45 Uhr Begrüßung \n12.00 Uhr Mittagessen \n13.30 Uhr Weihnachtsprogramm mit „Regina Ross“ \n15.00 Uhr Kaffeegedeck \nTanz bis 16.30 Uhr
URL:https://www.rosenwirt-winkel.de/event/weihnachten-mit-regina-ross/2023-12-06/
LOCATION:Landgasthof „Zu den Drei Rosen“\, Hauptstraße 32\, Uebigau-Wahrenbrück OT Winkel\, 04924\, Deutschland
ATTACH;FMTTYPE=image/jpeg:https://www.rosenwirt-winkel.de/wp-content/uploads/2023/01/Ross8-e1674645361855.jpg
GEO:51.5321537;13.3789452
X-APPLE-STRUCTURED-LOCATION;VALUE=URI;X-ADDRESS=Landgasthof „Zu den Drei Rosen“ Hauptstraße 32 Uebigau-Wahrenbrück OT Winkel 04924 Deutschland;X-APPLE-RADIUS=500;X-TITLE=Hauptstraße 32:geo:13.3789452,51.5321537
END:VEVENT
BEGIN:VEVENT
DTSTART;TZID=Europe/Berlin:20231207T113000
DTEND;TZID=Europe/Berlin:20231207T163000
DTSTAMP:20260425T191841
CREATED:20230125T111938Z
LAST-MODIFIED:20230125T111938Z
UID:10000790-1701948600-1701966600@www.rosenwirt-winkel.de
SUMMARY:Weihnachten mit den Zwillingsherzen Claudia und Carmen
DESCRIPTION:11.45 Uhr Begrüßung \n12.00 Uhr Mittagessen \n13.30 Uhr Weihnachtsprogramm mit „Zwillingsherzen Claudia und Carmen “ \n15.00 Uhr Kaffeegedeck \nTanz bis 16.30 Uhr
URL:https://www.rosenwirt-winkel.de/event/weihnachten-mit-den-zwillingsherzen-claudia-und-carmen/2023-12-07/
LOCATION:Landgasthof „Zu den Drei Rosen“\, Hauptstraße 32\, Uebigau-Wahrenbrück OT Winkel\, 04924\, Deutschland
ATTACH;FMTTYPE=image/jpeg:https://www.rosenwirt-winkel.de/wp-content/uploads/2020/04/claudia-und-carmen-weih-scaled-e1587544091219.jpg
GEO:51.5321537;13.3789452
X-APPLE-STRUCTURED-LOCATION;VALUE=URI;X-ADDRESS=Landgasthof „Zu den Drei Rosen“ Hauptstraße 32 Uebigau-Wahrenbrück OT Winkel 04924 Deutschland;X-APPLE-RADIUS=500;X-TITLE=Hauptstraße 32:geo:13.3789452,51.5321537
END:VEVENT
BEGIN:VEVENT
DTSTART;TZID=Europe/Berlin:20231208T113000
DTEND;TZID=Europe/Berlin:20231208T163000
DTSTAMP:20260425T191841
CREATED:20230125T111938Z
LAST-MODIFIED:20230125T111938Z
UID:10000791-1702035000-1702053000@www.rosenwirt-winkel.de
SUMMARY:Weihnachten mit den Zwillingsherzen Claudia und Carmen
DESCRIPTION:11.45 Uhr Begrüßung \n12.00 Uhr Mittagessen \n13.30 Uhr Weihnachtsprogramm mit „Zwillingsherzen Claudia und Carmen “ \n15.00 Uhr Kaffeegedeck \nTanz bis 16.30 Uhr
URL:https://www.rosenwirt-winkel.de/event/weihnachten-mit-den-zwillingsherzen-claudia-und-carmen/2023-12-08/
LOCATION:Landgasthof „Zu den Drei Rosen“\, Hauptstraße 32\, Uebigau-Wahrenbrück OT Winkel\, 04924\, Deutschland
ATTACH;FMTTYPE=image/jpeg:https://www.rosenwirt-winkel.de/wp-content/uploads/2020/04/claudia-und-carmen-weih-scaled-e1587544091219.jpg
GEO:51.5321537;13.3789452
X-APPLE-STRUCTURED-LOCATION;VALUE=URI;X-ADDRESS=Landgasthof „Zu den Drei Rosen“ Hauptstraße 32 Uebigau-Wahrenbrück OT Winkel 04924 Deutschland;X-APPLE-RADIUS=500;X-TITLE=Hauptstraße 32:geo:13.3789452,51.5321537
END:VEVENT
BEGIN:VEVENT
DTSTART;TZID=Europe/Berlin:20231210T120000
DTEND;TZID=Europe/Berlin:20231210T163000
DTSTAMP:20260425T191841
CREATED:20221016T155338Z
LAST-MODIFIED:20230125T112024Z
UID:10000582-1702209600-1702225800@www.rosenwirt-winkel.de
SUMMARY:Weihnachten mit "Brigitte Traeger"
DESCRIPTION:11.45 Uhr Begrüßung \n12.00 Uhr Mittagessen \n13.30 Uhr Weihnachtsprogramm mit „Brigitte Traeger“ \n15.00 Uhr Kaffeegedeck \nTanz bis 16.30 Uhr
URL:https://www.rosenwirt-winkel.de/event/weihnachten-der-himmel-ist-ein-lichterbogen-3/
LOCATION:Landgasthof „Zu den Drei Rosen“\, Hauptstraße 32\, Uebigau-Wahrenbrück OT Winkel\, 04924\, Deutschland
CATEGORIES:Weihnachten
ATTACH;FMTTYPE=image/jpeg:https://www.rosenwirt-winkel.de/wp-content/uploads/2021/03/TraegerBrigitte-e1665935481495.jpg
GEO:51.5321537;13.3789452
X-APPLE-STRUCTURED-LOCATION;VALUE=URI;X-ADDRESS=Landgasthof „Zu den Drei Rosen“ Hauptstraße 32 Uebigau-Wahrenbrück OT Winkel 04924 Deutschland;X-APPLE-RADIUS=500;X-TITLE=Hauptstraße 32:geo:13.3789452,51.5321537
END:VEVENT
BEGIN:VEVENT
DTSTART;TZID=Europe/Berlin:20231213T120000
DTEND;TZID=Europe/Berlin:20231213T163000
DTSTAMP:20260425T191841
CREATED:20210319T152916Z
LAST-MODIFIED:20230125T112149Z
UID:10000792-1702468800-1702485000@www.rosenwirt-winkel.de
SUMMARY:DDR Weihnachten
DESCRIPTION:11.30 Uhr Begrüßung \n12.00 Mittagessen \n13.30 Uhr DDR-Programm \n15.00 Uhr Kaffeegedeck \nTanz bis 16.30 Uhr \nVopo
URL:https://www.rosenwirt-winkel.de/event/ddr-weihnachten-2/2023-12-13/
LOCATION:Landgasthof „Zu den Drei Rosen“\, Hauptstraße 32\, Uebigau-Wahrenbrück OT Winkel\, 04924\, Deutschland
CATEGORIES:DDR-Feste,Weihnachten
ATTACH;FMTTYPE=image/jpeg:https://www.rosenwirt-winkel.de/wp-content/uploads/2018/06/Vopo-e1649355839280.jpg
GEO:51.5321537;13.3789452
X-APPLE-STRUCTURED-LOCATION;VALUE=URI;X-ADDRESS=Landgasthof „Zu den Drei Rosen“ Hauptstraße 32 Uebigau-Wahrenbrück OT Winkel 04924 Deutschland;X-APPLE-RADIUS=500;X-TITLE=Hauptstraße 32:geo:13.3789452,51.5321537
END:VEVENT
BEGIN:VEVENT
DTSTART;TZID=Europe/Berlin:20231214T120000
DTEND;TZID=Europe/Berlin:20231214T163000
DTSTAMP:20260425T191841
CREATED:20210319T152916Z
LAST-MODIFIED:20230125T112149Z
UID:10000793-1702555200-1702571400@www.rosenwirt-winkel.de
SUMMARY:DDR Weihnachten
DESCRIPTION:11.30 Uhr Begrüßung \n12.00 Mittagessen \n13.30 Uhr DDR-Programm \n15.00 Uhr Kaffeegedeck \nTanz bis 16.30 Uhr \nVopo
URL:https://www.rosenwirt-winkel.de/event/ddr-weihnachten-2/2023-12-14/
LOCATION:Landgasthof „Zu den Drei Rosen“\, Hauptstraße 32\, Uebigau-Wahrenbrück OT Winkel\, 04924\, Deutschland
CATEGORIES:DDR-Feste,Weihnachten
ATTACH;FMTTYPE=image/jpeg:https://www.rosenwirt-winkel.de/wp-content/uploads/2018/06/Vopo-e1649355839280.jpg
GEO:51.5321537;13.3789452
X-APPLE-STRUCTURED-LOCATION;VALUE=URI;X-ADDRESS=Landgasthof „Zu den Drei Rosen“ Hauptstraße 32 Uebigau-Wahrenbrück OT Winkel 04924 Deutschland;X-APPLE-RADIUS=500;X-TITLE=Hauptstraße 32:geo:13.3789452,51.5321537
END:VEVENT
BEGIN:VEVENT
DTSTART;TZID=Europe/Berlin:20231220T113000
DTEND;TZID=Europe/Berlin:20231220T163000
DTSTAMP:20260425T191841
CREATED:20230125T112420Z
LAST-MODIFIED:20230125T112426Z
UID:10000794-1703071800-1703089800@www.rosenwirt-winkel.de
SUMMARY:Weihnachten" Böhmische Blasmusik"
DESCRIPTION:11.45 Uhr Einmarsch der Böhmischen Blasmusikanten\n12.00 Uhr Mittagessen\n13.00 Uhr Showeinlage\n15.00 Uhr Kaffeegedeck\n16.30 Uhr Ende
URL:https://www.rosenwirt-winkel.de/event/weihnachten-boehmische-blasmusik/
LOCATION:Landgasthof „Zu den Drei Rosen“\, Hauptstraße 32\, Uebigau-Wahrenbrück OT Winkel\, 04924\, Deutschland
CATEGORIES:Advent,Böhmische Blasmusik
ATTACH;FMTTYPE=image/jpeg:https://www.rosenwirt-winkel.de/wp-content/uploads/2021/03/Blaskapellen-scaled-e1616168805623.jpg
GEO:51.5321537;13.3789452
X-APPLE-STRUCTURED-LOCATION;VALUE=URI;X-ADDRESS=Landgasthof „Zu den Drei Rosen“ Hauptstraße 32 Uebigau-Wahrenbrück OT Winkel 04924 Deutschland;X-APPLE-RADIUS=500;X-TITLE=Hauptstraße 32:geo:13.3789452,51.5321537
END:VEVENT
END:VCALENDAR